BEGIN:VCALENDAR
VERSION:2.0
PRODID:-//www.ipsach.ch//NONSGML kigkonsult.se iCalcreator 2.22//
CALSCALE:GREGORIAN
METHOD:PUBLISH
X-WR-TIMEZONE:Europe/Berlin
BEGIN:VEVENT
UID:20260420T104723CEST-8395reVUCv@www.ipsach.ch
DTSTAMP:20260420T084723Z
DESCRIPTION:Klicken Sie auf den folgenden Link\, um weitere Informationen z
 ur Veranstaltung zu erhalten:\nhttp://www.ipsach.ch/de/veranstaltungen/det
 ail/detail.php?i=545
DTSTART:20260306T190000
DTEND:20260306T193000
LOCATION:Kirchliches Zentrum
SUMMARY:Geschichteabende
END:VEVENT
END:VCALENDAR
