BEGIN:VCALENDAR
VERSION:2.0
PRODID:-//www.ipsach.ch//NONSGML kigkonsult.se iCalcreator 2.22//
CALSCALE:GREGORIAN
METHOD:PUBLISH
X-WR-TIMEZONE:Europe/Berlin
BEGIN:VEVENT
UID:20260421T102019CEST-9582u4Kr9m@www.ipsach.ch
DTSTAMP:20260421T082019Z
DESCRIPTION:Klicken Sie auf den folgenden Link\, um weitere Informationen z
 ur Veranstaltung zu erhalten:\nhttp://www.ipsach.ch/de/veranstaltungen/det
 ail/detail.php?i=550
DTSTART:20260425T100000
DTEND:20260425T170000
LOCATION:Vorplatz beim Gemeindehaus
SUMMARY:Dorfmärit Ipsach
END:VEVENT
END:VCALENDAR
